BEGIN:VCALENDAR
VERSION:2.0
PRODID:-//Les Corps (é)Mouvants - ECPv5.10.0//NONSGML v1.0//EN
CALSCALE:GREGORIAN
METHOD:PUBLISH
X-WR-CALNAME:Les Corps (é)Mouvants
X-ORIGINAL-URL:https://corps-e-mouvants.fr
X-WR-CALDESC:évènements pour Les Corps (é)Mouvants
BEGIN:VTIMEZONE
TZID:Europe/Zurich
BEGIN:DAYLIGHT
TZOFFSETFROM:+0100
TZOFFSETTO:+0200
TZNAME:CEST
DTSTART:20190331T010000
END:DAYLIGHT
BEGIN:STANDARD
TZOFFSETFROM:+0200
TZOFFSETTO:+0100
TZNAME:CET
DTSTART:20191027T010000
END:STANDARD
END:VTIMEZONE
BEGIN:VEVENT
DTSTART;TZID=Europe/Zurich:20191212T183000
DTEND;TZID=Europe/Zurich:20191212T200000
DTSTAMP:20260420T201712
CREATED:20191018T150737Z
LAST-MODIFIED:20191127T160020Z
UID:819-1576175400-1576180800@corps-e-mouvants.fr
SUMMARY:Méditation de pleine lune
DESCRIPTION:En tant que Moon Mother\, je vous propose de participer à la “bénédiction mondiale de l’utérus” organisée par Miranda Gray pour recevoir et partager ensemble les énergies de la pleine lune. \nNous ferons trois méditations de 15-20 minutes chacune\, suivies par un temps de partage et d’échange. La première méditation dite “bénédiction de l’utérus” permet de recevoir les énergies créatrices féminines. La deuxième est une méditation de partage\, en reliance avec toutes les femmes et en connexion avec la Terre. La troisième sera “la méditation du cercle des soeurs” qui nous relie aux autres femmes autour de nous et dans le monde. \nPour participer\, il suffit de vous inscrire sur le site de Miranda : http://www.mirandagray.co.uk/register.html sur le créneau de 19h et auprès de moi au 06 95 677 998. \nVous aurez besoin d’apporter : \n\n2 petits bols pour mettre de l’eau et une bougie\nune bougie chauffe-plat\nun châle pour mettre sur vos épaules et un objet qui symbolise votre féminité\ntrois petits rubans de couleur pour la méditation du cercle des soeurs\n\nHoraire et lieu : jeudi 12 décembre de 18h30 à 20h00. Rendez-vous un peu avant 18h30 aux Vallées\, à Laillé (cf. page Contact)\, de façon à terminer à l’heure. \nParticipation souhaitée : 5 à 10 € \nPour plus d’informations sur la bénédiction de l’utérus\, voir le site : http://www.wombblessing.com/french-aboutblessing.html
URL:https://corps-e-mouvants.fr/event/819/
LOCATION:Les Vallées\, 9 les Vallées\, Laillé\, 35980
CATEGORIES:Cercle de femmes,Méditation
END:VEVENT
END:VCALENDAR