BEGIN:VCALENDAR
VERSION:2.0
PRODID:-//Les Corps (é)Mouvants - ECPv5.10.0//NONSGML v1.0//EN
CALSCALE:GREGORIAN
METHOD:PUBLISH
X-WR-CALNAME:Les Corps (é)Mouvants
X-ORIGINAL-URL:https://corps-e-mouvants.fr
X-WR-CALDESC:évènements pour Les Corps (é)Mouvants
BEGIN:VTIMEZONE
TZID:Europe/Zurich
BEGIN:DAYLIGHT
TZOFFSETFROM:+0100
TZOFFSETTO:+0200
TZNAME:CEST
DTSTART:20220327T010000
END:DAYLIGHT
BEGIN:STANDARD
TZOFFSETFROM:+0200
TZOFFSETTO:+0100
TZNAME:CET
DTSTART:20221030T010000
END:STANDARD
END:VTIMEZONE
BEGIN:VEVENT
DTSTART;TZID=Europe/Zurich:20220702T150000
DTEND;TZID=Europe/Zurich:20220702T180000
DTSTAMP:20260420T063831
CREATED:20220627T101848Z
LAST-MODIFIED:20220627T102021Z
UID:1488-1656774000-1656784800@corps-e-mouvants.fr
SUMMARY:atelier de danse et art thérapie
DESCRIPTION:L’association Les Corps (é)Mouvants – s’épanouir par le corps\, les arts et le mouvement – organise des ateliers collectifs de danse et art thérapie un samedi après-midi par mois. \nLa proposition de ces ateliers est de laisser s’exprimer notre créativité\, donner corps à nos rêves et poser des actes symboliques pour (ré)-enchanter nos vies. A chaque séance\, nous explorerons un thème en lien avec la saison\, à travers des modes d’expression corporelle et artistique variés. \nLieu : Laillé ou Guichen\, en extérieur ou en intérieur\, en fonction de la météo et de la situation sanitaire \nThème : accueillir la plénitude de l’été et rayonner \nDates et horaires : samedi 30 octobre\, 27 novembre 2021\, 22 janvier\, 19 février\, 26 mars\, 30 avril\, 28 mai\, 2 juillet 2022\, de 15h à 18h \nTarif : 30 € la séance / 80 euros les 3 séances – matériel fourni \nRéservation nécessaire par mail à sophie@corps-e-mouvants.fr ou par téléphone au 06 95 67 79 98 – nombre de places limité (3 à 6 personnes)
URL:https://corps-e-mouvants.fr/event/atelier-de-danse-et-art-therapie-14/
LOCATION:aux Vallées ou en exterieur à la Haute Bouexière\, Laillé ou Guichen
CATEGORIES:Art thérapie,Danse
END:VEVENT
END:VCALENDAR