BEGIN:VCALENDAR
VERSION:2.0
PRODID:-//Les Corps (é)Mouvants - ECPv5.10.0//NONSGML v1.0//EN
CALSCALE:GREGORIAN
METHOD:PUBLISH
X-WR-CALNAME:Les Corps (é)Mouvants
X-ORIGINAL-URL:https://corps-e-mouvants.fr
X-WR-CALDESC:évènements pour Les Corps (é)Mouvants
BEGIN:VTIMEZONE
TZID:Europe/Zurich
BEGIN:DAYLIGHT
TZOFFSETFROM:+0100
TZOFFSETTO:+0200
TZNAME:CEST
DTSTART:20200329T010000
END:DAYLIGHT
BEGIN:STANDARD
TZOFFSETFROM:+0200
TZOFFSETTO:+0100
TZNAME:CET
DTSTART:20201025T010000
END:STANDARD
END:VTIMEZONE
BEGIN:VEVENT
DTSTART;TZID=Europe/Zurich:20200601T173000
DTEND;TZID=Europe/Zurich:20200601T190000
DTSTAMP:20260420T081133
CREATED:20200302T090817Z
LAST-MODIFIED:20200417T193733Z
UID:962-1591032600-1591038000@corps-e-mouvants.fr
SUMMARY:Danse créative
DESCRIPTION:L’association Les Corps (é)Mouvants organise un cycle de quatre séances de Danse Créative sur le thème “femmes et lune“\, du lundi 25 mai au lundi 15 juin de 17h30 à 19h. \nLe temps d’un cycle de lune\, nous visiterons les quatre principaux archétypes du féminin : la jeune fille\, la mère\, l’enchanteresse et la femme sage (qui est aussi la sorcière !). Chacune pourra découvrir ce que ces archétypes représentent pour elle\, quelle place elle leur donne dans sa vie\, et comment les incarner pour vivre une vie plus épanouie\, équilibrée et en harmonie avec les cycles de la nature. \nLe tarif est de 35 € (+ adhésion 10 €) pour l’ensemble du cycle. \nPour plus d’informations sur ces ateliers\, appelez Sophie au 06 95 67 79 98. Le nombre de places étant limité\, il est nécessaire de s’inscrire au préalable par téléphone ou par mail.
URL:https://corps-e-mouvants.fr/event/danse-creative-2/
LOCATION:l’Archipel\, 2 avenue du Commandant Cousteau\, Laillé\, 35980
CATEGORIES:Danse
END:VEVENT
END:VCALENDAR