BEGIN:VCALENDAR
VERSION:2.0
PRODID:-//Les Corps (é)Mouvants - ECPv5.10.0//NONSGML v1.0//EN
CALSCALE:GREGORIAN
METHOD:PUBLISH
X-WR-CALNAME:Les Corps (é)Mouvants
X-ORIGINAL-URL:https://corps-e-mouvants.fr
X-WR-CALDESC:évènements pour Les Corps (é)Mouvants
BEGIN:VTIMEZONE
TZID:Europe/Zurich
BEGIN:DAYLIGHT
TZOFFSETFROM:+0100
TZOFFSETTO:+0200
TZNAME:CEST
DTSTART:20200329T010000
END:DAYLIGHT
BEGIN:STANDARD
TZOFFSETFROM:+0200
TZOFFSETTO:+0100
TZNAME:CET
DTSTART:20201025T010000
END:STANDARD
END:VTIMEZONE
BEGIN:VEVENT
DTSTART;TZID=Europe/Zurich:20200316T173000
DTEND;TZID=Europe/Zurich:20200316T190000
DTSTAMP:20260420T081551
CREATED:20191221T204119Z
LAST-MODIFIED:20191221T204119Z
UID:874-1584379800-1584385200@corps-e-mouvants.fr
SUMMARY:Danse de l'Être
DESCRIPTION:L’association Les Corps (é)Mouvants organise un cycle de huit séances de Danse de l’Être® sur le thème des chakras\, le lundi de 17h30 à 19h du 13 janvier au 23 mars 2020\, hors vacances scolaires. \nPour plus d’informations sur la Danse de l’Être®\, voir le site : http://dansedeletre.fr \nLe tarif est de 70 € (+ adhésion 10 €) pour l’ensemble du cycle. \nPour plus d’informations sur ce cycle d’ateliers\, appelez Sophie au 06 95 67 79 98. Le nombre de places étant limité\, il est nécessaire de s’inscrire au préalable par téléphone ou par mail.
URL:https://corps-e-mouvants.fr/event/danse-de-letre-7/
LOCATION:l’Archipel\, 2 avenue du Commandant Cousteau\, Laillé\, 35980
CATEGORIES:Danse
END:VEVENT
END:VCALENDAR