BEGIN:VCALENDAR
VERSION:2.0
PRODID:-//Les Corps (é)Mouvants - ECPv5.10.0//NONSGML v1.0//EN
CALSCALE:GREGORIAN
METHOD:PUBLISH
X-WR-CALNAME:Les Corps (é)Mouvants
X-ORIGINAL-URL:https://corps-e-mouvants.fr
X-WR-CALDESC:évènements pour Les Corps (é)Mouvants
BEGIN:VTIMEZONE
TZID:Europe/Zurich
BEGIN:DAYLIGHT
TZOFFSETFROM:+0100
TZOFFSETTO:+0200
TZNAME:CEST
DTSTART:20190331T010000
END:DAYLIGHT
BEGIN:STANDARD
TZOFFSETFROM:+0200
TZOFFSETTO:+0100
TZNAME:CET
DTSTART:20191027T010000
END:STANDARD
END:VTIMEZONE
BEGIN:VEVENT
DTSTART;TZID=Europe/Zurich:20191013T184500
DTEND;TZID=Europe/Zurich:20191013T203000
DTSTAMP:20260420T200316
CREATED:20191007T192147Z
LAST-MODIFIED:20191008T193148Z
UID:795-1570992300-1570998600@corps-e-mouvants.fr
SUMMARY:Méditation de pleine lune
DESCRIPTION:En tant que Moon Mother avancée formée par Miranda\, je vous propose de participer à la “bénédiction mondiale de l’utérus”  pour recevoir et partager ensemble les énergies de la pleine lune. \nNous ferons trois méditations de 15-20 minutes chacune\, suivies par un temps de partage et d’échange. La première méditation dite “bénédiction de l’utérus” permet de recevoir les énergies créatrices féminines. La deuxième est une méditation de partage\, en reliance avec toutes les femmes et en connexion avec la Terre. La troisième sera “la guérison des ancêtres maternelles” qui contribue à guérir notre lignée maternelle et déployer dans notre vie la beauté\, la magie\, la force et la sagesse que nous en avons héritées. \nPour participer\, il suffit de vous inscrire sur le site de Miranda : http://www.mirandagray.co.uk/register.html et auprès de moi au 06 95 677 998. \nVous aurez besoin d’apporter : \n\n2 petits bols pour mettre de l’eau et une bougie\nune bougie chauffe-plat\nun châle pour mettre sur vos épaules et un objet qui symbolise votre féminité\ndes représentations physiques (photos\, poupées\, dessins…) de votre lignée féminine : votre mère\, votre grand-mère maternelle\, votre arrière-grand-mère maternelle\, et vos filles si vous en avez\n\nHoraire et lieu : Dimanche 13 octobre de 18h45 à 20h30. Rendez-vous à 18h45 aux Vallées\, à Laillé (cf. page Contact)\, de façon à commencer la méditation à 19h. \nParticipation souhaitée : 5 à 10 € \nPour plus d’informations sur la bénédiction de l’utérus\, voir le site : http://www.wombblessing.com/french-aboutblessing.html \n\nWomb blessing – © Miranda Gray
URL:https://corps-e-mouvants.fr/event/meditation-de-pleine-lune/
LOCATION:Les Vallées\, 9 les Vallées\, Laillé\, 35980
CATEGORIES:Cercle de femmes,Méditation
END:VEVENT
END:VCALENDAR