BEGIN:VCALENDAR
VERSION:2.0
PRODID:-//Les Corps (é)Mouvants - ECPv5.10.0//NONSGML v1.0//EN
CALSCALE:GREGORIAN
METHOD:PUBLISH
X-WR-CALNAME:Les Corps (é)Mouvants
X-ORIGINAL-URL:https://corps-e-mouvants.fr
X-WR-CALDESC:évènements pour Les Corps (é)Mouvants
BEGIN:VTIMEZONE
TZID:Europe/Zurich
BEGIN:DAYLIGHT
TZOFFSETFROM:+0100
TZOFFSETTO:+0200
TZNAME:CEST
DTSTART:20200329T010000
END:DAYLIGHT
BEGIN:STANDARD
TZOFFSETFROM:+0200
TZOFFSETTO:+0100
TZNAME:CET
DTSTART:20201025T010000
END:STANDARD
END:VTIMEZONE
BEGIN:VEVENT
DTSTART;TZID=Europe/Zurich:20200301T100000
DTEND;TZID=Europe/Zurich:20200301T180000
DTSTAMP:20260420T124043
CREATED:20200217T112620Z
LAST-MODIFIED:20200217T112702Z
UID:937-1583056800-1583085600@corps-e-mouvants.fr
SUMMARY:Salon Eveil au Bien-Être
DESCRIPTION:Je serai présente au salon Eveil au Bien-Être à Guignen le dimanche 1er mars. J’y animerai un atelier de découverte de l’art-thérapie. \n 
URL:https://corps-e-mouvants.fr/event/salon-eveil-au-bien-etre/
LOCATION:Guignen\, Espace de la prairie\, salle Grands Chênes\, Guignen\, 35580\, France
CATEGORIES:Art thérapie,Autres
END:VEVENT
END:VCALENDAR