BEGIN:VCALENDAR
VERSION:2.0
PRODID:-//Les Corps (é)Mouvants - ECPv5.10.0//NONSGML v1.0//EN
CALSCALE:GREGORIAN
METHOD:PUBLISH
X-WR-CALNAME:Les Corps (é)Mouvants
X-ORIGINAL-URL:https://corps-e-mouvants.fr
X-WR-CALDESC:évènements pour Les Corps (é)Mouvants
BEGIN:VTIMEZONE
TZID:Europe/Zurich
BEGIN:DAYLIGHT
TZOFFSETFROM:+0100
TZOFFSETTO:+0200
TZNAME:CEST
DTSTART:20220327T010000
END:DAYLIGHT
BEGIN:STANDARD
TZOFFSETFROM:+0200
TZOFFSETTO:+0100
TZNAME:CET
DTSTART:20221030T010000
END:STANDARD
END:VTIMEZONE
BEGIN:VEVENT
DTSTART;TZID=Europe/Zurich:20220423T100000
DTEND;TZID=Europe/Zurich:20220423T173000
DTSTAMP:20260420T050406
CREATED:20220321T155122Z
LAST-MODIFIED:20220321T155122Z
UID:1420-1650708000-1650735000@corps-e-mouvants.fr
SUMMARY:Stage de Danse de l'Être dans la nature
DESCRIPTION:L’association Les Corps (é)Mouvants – s’épanouir par le corps\, les arts et le mouvement – organise une journée de Danse de l’Être® (cf. https://dansedeletre.org/) en forêt\, accompagnée par les sons de la nature et du tambour. \nDanser en connexion avec la nature et les éléments\, se laisser guider par ses sensations\, faire l’expérience de la lenteur\, se transformer en oiseau\, en arbre\, en ruisseau… et goûter la joie de se sentir relié au vivant. \nTarif : 50 € la journée / 45 € pour les adhérents
URL:https://corps-e-mouvants.fr/event/stage-de-danse-de-letre-dans-la-nature/
LOCATION:la Haute Bouexiere\, Guichen\, Guichen\, France
CATEGORIES:Danse
END:VEVENT
END:VCALENDAR