BEGIN:VCALENDAR
VERSION:2.0
PRODID:-//Les Corps (é)Mouvants - ECPv5.10.0//NONSGML v1.0//EN
CALSCALE:GREGORIAN
METHOD:PUBLISH
X-WR-CALNAME:Les Corps (é)Mouvants
X-ORIGINAL-URL:https://corps-e-mouvants.fr
X-WR-CALDESC:évènements pour Les Corps (é)Mouvants
BEGIN:VTIMEZONE
TZID:Europe/Zurich
BEGIN:DAYLIGHT
TZOFFSETFROM:+0100
TZOFFSETTO:+0200
TZNAME:CEST
DTSTART:20200329T010000
END:DAYLIGHT
BEGIN:STANDARD
TZOFFSETFROM:+0200
TZOFFSETTO:+0100
TZNAME:CET
DTSTART:20201025T010000
END:STANDARD
END:VTIMEZONE
BEGIN:VEVENT
DTSTART;TZID=Europe/Zurich:20200118T100000
DTEND;TZID=Europe/Zurich:20200118T130000
DTSTAMP:20260421T152259
CREATED:20191209T202346Z
LAST-MODIFIED:20200302T085112Z
UID:842-1579341600-1579352400@corps-e-mouvants.fr
SUMMARY:Stage de Qi Gong
DESCRIPTION:L’association Les Corps (é)Mouvants – s’épanouir par le corps\, les arts et le mouvement organise un stage de Qi Gong\, le samedi 18 janvier 2020 de 10h à 13h. \nNous travaillerons les énergies de l’hiver\, saison associée aux reins\, à la vessie et à l’élément EAU en médecine traditionnelle chinoise. \nCe stage s’adresse à toute personne désireuse de découvrir le Qi Gong\, s’harmoniser avec la saison ou approfondir sa pratique.
URL:https://corps-e-mouvants.fr/event/stage-de-qi-gong-2/
LOCATION:l’Archipel\, 2 avenue du Commandant Cousteau\, Laillé\, 35980
CATEGORIES:Qi Gong
END:VEVENT
END:VCALENDAR