BEGIN:VCALENDAR
VERSION:2.0
PRODID:-//Les Corps (é)Mouvants - ECPv5.10.0//NONSGML v1.0//EN
CALSCALE:GREGORIAN
METHOD:PUBLISH
X-WR-CALNAME:Les Corps (é)Mouvants
X-ORIGINAL-URL:https://corps-e-mouvants.fr
X-WR-CALDESC:évènements pour Les Corps (é)Mouvants
BEGIN:VTIMEZONE
TZID:Europe/Zurich
BEGIN:DAYLIGHT
TZOFFSETFROM:+0100
TZOFFSETTO:+0200
TZNAME:CEST
DTSTART:20190331T010000
END:DAYLIGHT
BEGIN:STANDARD
TZOFFSETFROM:+0200
TZOFFSETTO:+0100
TZNAME:CET
DTSTART:20191027T010000
END:STANDARD
END:VTIMEZONE
BEGIN:VEVENT
DTSTART;TZID=Europe/Zurich:20191221T080000
DTEND;TZID=Europe/Zurich:20191221T170000
DTSTAMP:20260420T233503
CREATED:20191221T204722Z
LAST-MODIFIED:20191221T204722Z
UID:882-1576915200-1576947600@corps-e-mouvants.fr
SUMMARY:Stage de Qi Gong
DESCRIPTION:L’association Les Corps (é)Mouvants – s’épanouir par le corps\, les arts et le mouvement organise un stage de Qi Gong\, le samedi 18 janvier 2010 de 10h à 13h. \nNous travaillerons les énergies du printemps\, saison associée au foie\, à la vésicule biliaire et à l’élément bois en médecine traditionnelle chinoise. \nCe stage s’adresse à toute personne désireuse de découvrir le Qi Gong\, s’harmoniser avec la saison ou approfondir sa pratique.
URL:https://corps-e-mouvants.fr/event/stage-de-qi-gong-3/
LOCATION:l’Archipel\, 2 avenue du Commandant Cousteau\, Laillé\, 35980
CATEGORIES:Qi Gong
END:VEVENT
END:VCALENDAR