BEGIN:VCALENDAR
VERSION:2.0
PRODID:-//Les Corps (é)Mouvants - ECPv5.10.0//NONSGML v1.0//EN
CALSCALE:GREGORIAN
METHOD:PUBLISH
X-WR-CALNAME:Les Corps (é)Mouvants
X-ORIGINAL-URL:https://corps-e-mouvants.fr
X-WR-CALDESC:évènements pour Les Corps (é)Mouvants
BEGIN:VTIMEZONE
TZID:Europe/Zurich
BEGIN:DAYLIGHT
TZOFFSETFROM:+0100
TZOFFSETTO:+0200
TZNAME:CEST
DTSTART:20190331T010000
END:DAYLIGHT
BEGIN:STANDARD
TZOFFSETFROM:+0200
TZOFFSETTO:+0100
TZNAME:CET
DTSTART:20191027T010000
END:STANDARD
END:VTIMEZONE
BEGIN:VEVENT
DTSTART;TZID=Europe/Zurich:20191019T100000
DTEND;TZID=Europe/Zurich:20191019T130000
DTSTAMP:20260420T214101
CREATED:20191007T191707Z
LAST-MODIFIED:20191008T192748Z
UID:788-1571479200-1571490000@corps-e-mouvants.fr
SUMMARY:Stage de Qi Gong
DESCRIPTION:L’association Les Corps (é)Mouvants – s’épanouir par le corps\, les arts et le mouvement organise un stage de Qi Gong\, le samedi 19 octobre 2019 de 10h à 13h. \nNous travaillerons les énergies de l’automne\, saison associée aux poumons\, au gros intestin et à l’élément métal en médecine traditionnelle chinoise. Ce stage s’adresse à toute personne désireuse de découvrir le Qi Gong\, s’harmoniser avec la saison ou approfondir sa pratique. \nLieu : l’Archipel\, Laillé \nTarif : 25 € + adhésion (5 € pour le stage ou 10 € pour l’année) \nPour plus d’informations\, appelez Sophie au 06 95 67 79 98. Le nombre de places étant limité\, il est nécessaire de s’inscrire au préalable\, par téléphone ou via la page Contact.
URL:https://corps-e-mouvants.fr/event/stage-de-qi-gong/
LOCATION:l’Archipel\, 2 avenue du Commandant Cousteau\, Laillé\, 35980
CATEGORIES:Qi Gong
END:VEVENT
END:VCALENDAR