BEGIN:VCALENDAR
VERSION:2.0
PRODID:-//Les Corps (é)Mouvants - ECPv5.10.0//NONSGML v1.0//EN
CALSCALE:GREGORIAN
METHOD:PUBLISH
X-WR-CALNAME:Les Corps (é)Mouvants
X-ORIGINAL-URL:https://corps-e-mouvants.fr
X-WR-CALDESC:évènements pour Les Corps (é)Mouvants
BEGIN:VTIMEZONE
TZID:Europe/Zurich
BEGIN:DAYLIGHT
TZOFFSETFROM:+0100
TZOFFSETTO:+0200
TZNAME:CEST
DTSTART:20210328T010000
END:DAYLIGHT
BEGIN:STANDARD
TZOFFSETFROM:+0200
TZOFFSETTO:+0100
TZNAME:CET
DTSTART:20211031T010000
END:STANDARD
END:VTIMEZONE
BEGIN:VEVENT
DTSTART;TZID=Europe/Zurich:20210708T100000
DTEND;TZID=Europe/Zurich:20210708T120000
DTSTAMP:20260420T063919
CREATED:20210616T132621Z
LAST-MODIFIED:20210616T132621Z
UID:1263-1625738400-1625745600@corps-e-mouvants.fr
SUMMARY:Stage enfants
DESCRIPTION:Atelier de découverte du Qi Gong et de la danse créative pour enfants de 6 à 11 ans\, en plein air
URL:https://corps-e-mouvants.fr/event/stage-enfants/
LOCATION:en extérieur\, à Laillé\, Laillé
CATEGORIES:Danse,Qi Gong
END:VEVENT
END:VCALENDAR