BEGIN:VCALENDAR
VERSION:2.0
PRODID:-//Les Corps (é)Mouvants - ECPv5.10.0//NONSGML v1.0//EN
CALSCALE:GREGORIAN
METHOD:PUBLISH
X-WR-CALNAME:Les Corps (é)Mouvants
X-ORIGINAL-URL:https://corps-e-mouvants.fr
X-WR-CALDESC:évènements pour Les Corps (é)Mouvants
BEGIN:VTIMEZONE
TZID:Europe/Zurich
BEGIN:DAYLIGHT
TZOFFSETFROM:+0100
TZOFFSETTO:+0200
TZNAME:CEST
DTSTART:20210328T010000
END:DAYLIGHT
BEGIN:STANDARD
TZOFFSETFROM:+0200
TZOFFSETTO:+0100
TZNAME:CET
DTSTART:20211031T010000
END:STANDARD
END:VTIMEZONE
BEGIN:VEVENT
DTSTART;TZID=Europe/Zurich:20210130T150000
DTEND;TZID=Europe/Zurich:20210130T180000
DTSTAMP:20260422T134003
CREATED:20210124T091701Z
LAST-MODIFIED:20210307T202834Z
UID:1158-1612018800-1612029600@corps-e-mouvants.fr
SUMMARY:Atelier de danse et art thérapie - fête d'Imbolc
DESCRIPTION:L’association Les Corps (é)Mouvants – s’épanouir par le corps\, les arts et le mouvement – organise des ateliers collectifs de danse et art thérapie un samedi après-midi par mois\, de janvier à juillet \nLa proposition de ces ateliers est de laisser s’exprimer notre créativité\, donner corps à nos rêves et poser des actes symboliques pour (ré)-enchanter nos vies. A chaque séance\, nous explorerons un thème en lien avec la saison ou les phases de la lune\, à travers des modes d’expression corporelle et artistique variés (dessin\, peinture\, modelage\, collage\, land art\, danse…) \nLieu : Laillé ou Guichen\, en extérieur ou en intérieur\, en fonction de la météo et de la situation sanitaire – en ligne en cas de confinement \nDates et horaires : samedi 30 janvier\, 27 février\, 27 mars\, 10 avril\, 15 mai\, 12 juin\, 10 juillet 2121 de 15h à 18h (avancé à 14h30 en cas de couvre-feu à 18h) \nSamedi 30 janvier : fête celtique d’Imbolc\, préparation de l’arrivée du printemps \nTarif : 35 € / 30 € par séance pour un engagement d’au moins trois séances – matériel fourni / 25 € pour les ateliers en ligne – matériel non fourni \nInscriptions : sur le site d’HelloAsso ou par mail à sophie@corps-e-mouvants.fr ou par téléphone au 06 95 67 79 98 – nombre de places limité (3 à 6 personnes)
URL:https://corps-e-mouvants.fr/event/atelier-de-danse-et-art-therapie-fete-dimbolc/
LOCATION:en ligne\, via Skype
CATEGORIES:Art thérapie,Cercle de femmes,Danse
END:VEVENT
END:VCALENDAR